BEGIN:VCALENDAR
VERSION:2.0
X-WR-CALNAME:www.indybay.org
PRODID:-//indybay/ical// v1.0//EN
BEGIN:VEVENT
UID:Indybay-18881819
SEQUENCE:19057315
CREATED:20251126T222600Z
DESCRIPTION:RSVP for Sunday, November 30, 2025, 4:00 PM\nThe Distinguished Artists 
 Concert Foundation\nProudly Presents A Benefit Concert Featuring 
 Pianists\nJeffrey Chappell and John Orlando\nPeace United Church\n900 High 
 Street, Santa Cruz, CA 95060\n\nTICKETS: \n$40 General online 
 www.distinguishedartists.org\n$40 Suggested Donation at the door\n\nJEFFREY 
 CHAPPELL has performed throughout the United States in recitals\nand 
 chamber music and has been a soloist with major symphony 
 orchestras\nincluding those of Philadelphia, St. Louis, Pittsburgh, 
 Baltimore, Houston, and\nIndianapolis. He has concertized in Europe, Asia, 
 and Latin America, and has\nappeared at summer festivals including Marlboro 
 and the La Gesse Festival. \nMr. Chappell is also a recording artist and an 
 award-winning composer. His\nteachers were Jane Allen, Eleanor Sokoloff and 
 Rudolf Serkin at the Curtis Institute, \nand Leon Fleisher at the Peabody 
 Institute. He taught at Goucher College in Baltimore, \nMaryland for four 
 decades and is on the faculty of the Levine School of Music in\nWashington, 
 D.C. He was a contributing editor for Piano & Keyboard\nMagazine. For more 
 information, visit: jeffreychappell.com\n                            \nJOHN 
 ORLANDO graduated summa cum laude with a D.M.A in performance\nfrom USC. He 
 has performed with the Cabrillo Festival and the Institute for 
 the\nDevelopment of Intercultural Relations for the Arts. Dr. Orlando has 
 performed\nconcertos with the Espressivo Chamber Orchestra. San Francisco 
 Sinfonietta,\nCadenza Chamber Orchestra and Santa Cruz and Fresno 
 Symphonies. \nDr. Orlando has held teaching positions at the USC and Santa 
 Clara universities. \nHe is instructor emeritus at Cabrillo College and 
 director of the Distinguished Artists\nConcert & Lecture Series which he 
 founded in 1985. He received the Gail Rich\nAward and was named Best 
 College Teacher and Performer in Santa Cruz County\nby Good Times Weekly.  
 \n\nFor more info. contact John Orlando.\nCall: (831) 539-0000\nEmail: 
 joorland@gmail.com\n\nPROGRAM:\n\nToccata in F# Minor, J.S. Bach\n\nAndante 
 Spianato and Grande Polonaise Brilliante, Chopin\n\nPiano Trio, Jeffrey 
 Chappell\nJeux d’Eau and Toccata, Ravel\n\nAndantino Varie, piano four 
 hands, Schubert\nConcerto in A Major, K.488, Mozart\nJohn Orlando, 
 soloist\n\nPLEASE INVITE FRIENDS!\n 
 https://www.indybay.org/newsitems/2025/11/26/18881819.php
SUMMARY:Distinguished Artists Concert Pianists - Jeffrey Chappell & John Orlando
LOCATION:Peace United Church\n900 High Street, Santa Cruz, CA 95060\n
URL:https://www.indybay.org/newsitems/2025/11/26/18881819.php
DTSTART:20251201T000000Z
DTEND:20251201T020000Z
END:VEVENT
END:VCALENDAR
