BEGIN:VCALENDAR
VERSION:2.0
X-WR-CALNAME:www.indybay.org
PRODID:-//indybay/ical// v1.0//EN
BEGIN:VEVENT
UID:Indybay-18881572
SEQUENCE:19056938
CREATED:20251117T221300Z
DESCRIPTION:Presentation & Discussion:\n"Fascist Are Not Welcome Here" the Berkeley 
 Protest Against Turning Point Was Righteous!\nTrump Must Go Now!\nCome to 
 Revolution Books for this presentation & discussion. \nWhat actually 
 happened at the TPSUA protest?\nWhy is it being investigated by the FBI- 
 led Joint Anti-Terrorism Task Force?\nWhy are universities under attack by 
 the Trump regime?\nAre we really living under fascism now?\nWhat can we do 
 to defeat it?\n https://www.indybay.org/newsitems/2025/11/17/18881572.php
SUMMARY:"Fascists Are Not Welcome Here", Berkeley Protest against Turning Point Was Righteous!
LOCATION:Revolution Books\n2444 Durant Avenue\nBerkeley, CA
URL:https://www.indybay.org/newsitems/2025/11/17/18881572.php
DTSTART:20251120T030000Z
DTEND:20251120T050000Z
END:VEVENT
END:VCALENDAR
