BEGIN:VCALENDAR
VERSION:2.0
X-WR-CALNAME:www.indybay.org
PRODID:-//indybay/ical// v1.0//EN
BEGIN:VEVENT
UID:Indybay-18881024
SEQUENCE:19056122
CREATED:20251028T104600Z
DESCRIPTION:Join our seventh rally to protest the terrible assaults on US scientific 
 research, health care, our universities & democracy! \n​\nWith the Ugly 
 Budget Bill passing and our country being flooded with daily attacks on 
 healthcare, science and all the pillars supporting democracy, we urgently 
 need to escalate our community’s resistance. Trump's executive order 
 putting politicians in charge of research grants indicates that he wants 
 science to be corrupted. Speakers will address the latest on these multiple 
 attacks, and on mobilizing to weaken the autocracy and save our 
 country.\n​\nMUSIC: The Mitchell Park Band will play, and the Raging 
 Grannies will sing. \nBring your outrage, your signs, your voices, your 
 chants, and your creativity and walking shoes! Costumes optional but 
 encouraged. Enjoy the many we already have planned.\n \nMARCH: after the 
 rally those who can will march along nearby streets in Palo Alto singing a 
 new protest song and carrying signs on critical issues.\n\n\n 
 https://www.indybay.org/newsitems/2025/10/28/18881024.php
SUMMARY:Halloween Costume Party and Rally: Stand Up for Science and Sanity!
LOCATION:Lytton Plaza\n200 University Ave\nPalo Alto CA
URL:https://www.indybay.org/newsitems/2025/10/28/18881024.php
DTSTART:20251031T193000Z
DTEND:20251031T210000Z
END:VEVENT
END:VCALENDAR
