BEGIN:VCALENDAR
VERSION:2.0
X-WR-CALNAME:www.indybay.org
PRODID:-//indybay/ical// v1.0//EN
BEGIN:VEVENT
UID:Indybay-18880388
SEQUENCE:19055161
CREATED:20251001T165700Z
DESCRIPTION:The screening will be followed by a discussion with film director Mariam 
 Shahin.\n\n================================================================\n\nCALL 
 TO ACTION\n\n1) Sign the Change.org petition re: Uniting for Peace Gaza 
 Protection 
 Force\nhttps://www.change.org/p/thank-pres-petro-urge-him-to-submit-uniting-for-peace-gaza-protection-force-now\n\n2) 
 Urge Governor Newsom to Veto Classroom Censorship Bill AB 
 715\nhttps://bit.ly/veto-ab715  \n\n3) Tell Congress: Support the Block the 
 Bombs Act\nhttps://actionnetwork.org/letters/block-the-bombs-act\n\n4) Sign 
 petition: Killer Cargo Out of OAK 
 Now!\nhttps://actionnetwork.org/petitions/oakland-stands-against-genocide-no-killer-cargo-out-of-oak-now-3?source=direct_link&\n\n5) 
 Tell Delaware Attorney General Kathy Jennings to Dismantle the 
 GHF\nhttps://bit.ly/dissolve-ghf \n\n6) Press Congress to Overcome Man-Made 
 Famine in Gaza: Make Food Priority One \nhttps://bit.ly/Stop_famine   
 \n\n7) Contact the White House, your Senators and Representative and urge 
 them to:\n\n✅ [FOR REPRESENTATIVE] Support & Cosponsor H.R.3565, the 
 Block the Bombs Act\n✅ [FOR SENATORS] Introduce & advance a Senate 
 companion bill to the Block the Bombs Act (H.R.3565)\n✅ Publicly call for 
 the immediate opening of ALL border crossings for unrestricted humanitarian 
 aid entry into Gaza\n✅ Publicly call for an immediate, unconditional, and 
 permanent cease-fire and the complete withdrawal of the Israeli military 
 from Gaza\n✅ Publicly call for the immediate end to the siege and the 
 occupation of Gaza\n✅ Support an immediate arms embargo to suspend 
 military funding and weapons to Israel\n \n\nWhite House Comment Line\nOpen 
 Monday thru Thursday 10am-3pm EST\nComment Line (202) 456-1111\nSwitchboard 
 (202) 456-1414\nEmail Contact Page: 
 https://www.whitehouse.gov/contact/\n\nSCRIPT for White House: 
 \nhttps://act.mpowerchange.org/sign/call_the_white_house/ \n\nSenator Alex 
 Padilla\n(202) 224-3553 DC office\nSenator Padilla's other office 
 locations: (415) 981-9369 San Francisco office; (916) 448-2787 Sacramento 
 office, (559) 497-5109 Fresno office; (310) 231-4494 LA office; (619) 
 239-3884 San Diego office\nEmail Contact Page: 
 https://www.padilla.senate.gov/contact/contact-form/\n\nSenator Adam 
 Schiff\n(202) 224-3841 DC office\nEmail: Schiff_California [at] 
 schiff.senate.gov\nWebsite: https://www.schiff.senate.gov/\n\nCongressional 
 Switchboard\n(202) 224-3121\nContact your Representative: 
 https://www.house.gov/representatives/find-your-representative\n\n==================================================================\n\nFOR 
 OTHER 
 ACTIONS:\nhttps://uscpr.org/pro-palestine-protests/\n\n==================================================================\n\nBOYCOTT\n\nBoycott 
 TEVA Pharmaceuticals https://boycottteva.org/\n\nBDS Movement: 
 https://bdsmovement.net/Act-Now-Against-These-Companies-Profiting-From-Genocide\n\nBoycat 
 App: https://www.boycat.io/\n\nNo Appetite for Apartheid 
 https://na4a.org/\n\n==================================================================\n\nDIVESTMENT\n\nLearn 
 about municipal strategies from the BNC - “Your city can join the BDS 
 Movement”\nhttps://bdsmovement.net/Your-City-Can-Join-The-BDS-Movement\n\nAre 
 There Human Rights Violations Hidden in Your 
 Investments?\nhttps://investigate.info/\n\n\n 
 https://www.indybay.org/newsitems/2025/10/01/18880388.php
SUMMARY:Virtual screening of the documentary film "Samidoun: The Steadfast Women of Palestine"
LOCATION:Zoom\nhttps://us02web.zoom.us/webinar/register/WN_Z77iGPD_QPmxWzkXw1NPTg#/registration
URL:https://www.indybay.org/newsitems/2025/10/01/18880388.php
DTSTART:20251004T160000Z
DTEND:20251004T173000Z
END:VEVENT
END:VCALENDAR
