BEGIN:VCALENDAR
VERSION:2.0
X-WR-CALNAME:www.indybay.org
PRODID:-//indybay/ical// v1.0//EN
BEGIN:VEVENT
UID:Indybay-18880234
SEQUENCE:19054912
CREATED:20250927T192600Z
DESCRIPTION:International Day of Action Against 2 Years of Gaza Genocide\n\nOctober 
 4th\n\nJoin in protesting Israel’s ongoing siege on Gaza, including the 
 deliberate starvation of civilians and the blocking of critical aid. We 
 also protest the U.S. complicity in Israel's massive violence against the 
 Palestinian people. \n\nIn 2024 alone, the federal U.S. government sent 
 Israel at least $17.9 billion in military funding to mass murder the 
 Palestinian people. With our tax dollars, Israel wiped out an estimated 
 hundreds of thousands of Palestinians in Gaza.\n\nAround the world on 
 October 4th, people will be rising up globally in mass action protest 
 against the genocide in Gaza.  \n\nWe must stand against the oppression 
 until we end all U.S. military funding to Israel and Palestine is free. We 
 must rise up to demand freedom and justice for the Palestinian people and 
 for a world without racism and oppression. \n\nSF BAY AREA\n\nJoin a 
 protest near you (Oct 4th & daily actions calendar): 
 https://uscpr.org/pro-palestine-protests/\n\nSAN JOSE: Oct 4 at 3 PM @ SJ 
 City Hall Plaza, 200 E Santa Clara St, San Jose, CA 
 95113\nhttps://www.instagram.com/p/DOjOSiCCc7A/\n\nOAKLAND: Oct 4 at 1 PM @ 
 Plaza at 1 Frank H Ogawa Plz, Oakland, CA 
 94612\nhttps://www.instagram.com/p/DPAZUeHj0kX/\n\n\nNORTH AMERICA on Oct 
 4:\n\n    San Jose, CA | 3PM at City Hall\n    Los Angeles, CA | 1PM at the 
 Zionist Consulate\n    Oakland, CA | 1PM in Oscar Grant Plaza\n    Denver, 
 CO | 12PM at the State Capitol\n    Washington, D.C. | 2PM at House of 
 Congress\n    Orlando, FL | 4PM, Location TBD\n    Chicago, IL | 2PM at 
 Michigan Ave. & Wacker Dr.\n    Dearborn, MI | 2PM at 14205 Diversey St.\n  
   Cleveland, OH | 3PM at Levant Parking Lot\n    Dallas, TX | 2-5PM at City 
 Hall\n    Houston, TX | 2PM at City Hall\n    Montreal, Canada | 2PM at 
 Place Des Arts\n    Toronto, Canada | 2PM at Sankofa Square\n    Ottawa, 
 Canada | 2PM at Parliament Hill\n\n\nWe’re all paying the price of this 
 genocide—with our tax dollars. Find out how much money people in your 
 city are forced to pay, and what could be funded instead. Use this 
 interactive map to look up your city or state: 
 https://www.notmytaxdollars.org/\n\n\nALSO HAPPENING on Oct 1: \nTwo Years 
 of Genocide - The Legacy of Malcolm X and Black-Palestinian Solidarity 
 \nOct 1 at 6 PM @ First Congregational Church Oakland\nJoin MECA as we 
 welcome Angela Davis, Ali Abunimah, and Lara Kiswani in conversation on the 
 two years of ongoing genocide in Gaza. the legacy of Malcolm X, and 
 Black-Palestinian 
 solidarity.\nhttps://events.humanitix.com/black-palestine-solidarity\n\n 
 https://www.indybay.org/newsitems/2025/09/27/18880234.php
SUMMARY:International Day of Action & Protest Against 2 Years of Gaza Genocide
LOCATION:SF Bay Area, throughout USA, and worldwide\n\nStop the Gaza Genocide! 
 Pro-Palestine Protests Near You: 
 https://uscpr.org/pro-palestine-protests/\n\nOct 4th protests. Action 
 calendar for daily protests & actions, too.\n\nCODEPINK website - protest 
 list for Oct 4: https://www.codepink.org/oct425
URL:https://www.indybay.org/newsitems/2025/09/27/18880234.php
DTSTART:20251004T160000Z
DTEND:20251005T040000Z
END:VEVENT
END:VCALENDAR
