BEGIN:VCALENDAR
VERSION:2.0
X-WR-CALNAME:www.indybay.org
PRODID:-//indybay/ical// v1.0//EN
BEGIN:VEVENT
UID:Indybay-18879656
SEQUENCE:19054061
CREATED:20250908T024900Z
DESCRIPTION:An update on the situation in Gaza by Nora Barrows-Friedman, an activist 
 and associate editor for The Electronic Intifada (electronicintifada.net) 
 and co-host with Ali Abunimah, of the radio show, The Electronic Intifada, 
 Tuesdays on KPFA 94.1FM (kpfa.org). She has been a reporter and broadcaster 
 focusing on Palestine for more than 20 years.\n\nThe systematic starvation 
 of the people of Gaza and the escalating massacre of the Palestinian people 
 by the Israeli military must be stopped. Many of us have protested and 
 called for an end to the genocide. We must find the way to do even more. We 
 need to do whatever we can to stop this violence being carried out in our 
 name.\n\nJoin us for a presentation and discussion.\n\n$5 dollar donation 
 requested, no one turned away\n 
 https://www.indybay.org/newsitems/2025/09/07/18879656.php
SUMMARY:No Genocide in Our Name! Stop the Famine! An update on Gaza by Nora Barrows-Friedman
LOCATION:Judge Henry Ramsey Jr. Center\n2939 Ellis Street, Berkeley, CA 94703
URL:https://www.indybay.org/newsitems/2025/09/07/18879656.php
DTSTART:20250921T230000Z
DTEND:20250922T003000Z
END:VEVENT
END:VCALENDAR
