BEGIN:VCALENDAR
VERSION:2.0
X-WR-CALNAME:www.indybay.org
PRODID:-//indybay/ical// v1.0//EN
BEGIN:VEVENT
UID:Indybay-18878851
SEQUENCE:19052749
CREATED:20250812T060100Z
DESCRIPTION:Public Discussion — Fight the Cuts: Disability Justice NOW!\n\n- Restore 
 & expand healthcare and benefits\n- Why an inclusive movement is key\n- The 
 key leadership of people with disabilities\n- Build for a general 
 strike\n\nSpeakers:\nBrittanie Hernandez-Wilson — Disability Justice 
 activist and community organizer\nSam Rubin — Disabled socialist feminist 
 and former Special Education teacher\n\nSunday, August 24, 12:00 noon\nNew 
 Valencia Hall, 747 Polk St. San Francisco\nlocated seven blocks from Civic 
 Center BART & on or near Muni bus lines #5, 19, 31, 38 & 49\nWheelchair 
 accessible entrance\n\nLunch and socializing afterwards \nDoor donation 
 $3-5 Lunch donation $10-15\nFundraiser for the Freedom Socialist 
 newspaper\n\nSponsored by the Freedom Socialist Party\n\nFor more 
 information, call 415-864-1278 or email bayareafsp@socialism.com\n 
 https://www.indybay.org/newsitems/2025/08/11/18878851.php
SUMMARY:Public Discussion — Fight the Cuts: Disability Justice NOW!
LOCATION:New Valencia Hall, 747 Polk St (nr. Ellis), San Francisco\n\nAlso on Zoom 
 — Register at https://bit.ly/DisabilityJusticeNow
URL:https://www.indybay.org/newsitems/2025/08/11/18878851.php
DTSTART:20250824T190000Z
DTEND:20250824T203000Z
END:VEVENT
END:VCALENDAR
