BEGIN:VCALENDAR
VERSION:2.0
X-WR-CALNAME:www.indybay.org
PRODID:-//indybay/ical// v1.0//EN
BEGIN:VEVENT
UID:Indybay-18878725
SEQUENCE:19052548
CREATED:20250807T002700Z
DESCRIPTION:SAN JOSE PROTEST! BREAK THE SIEGE ON GAZA NOW!\n\n‼️ BRING POTS AND 
 PANS!\n⏰ SUNDAY, 8/10 @ 1 PM\n📍 RALLY @ Federal Court 280 S 1st 
 St\n➡️ MARCH thru San Pedro St to City Hall\n\nGaza is still bring 
 starved by the zionist entity! The situation demands that we SPEAK UP! 
 Medical experts are saying at least 1.1 million people, half of Gaza, are 
 reaching stage 5 famine, which will lead to irreversible damage to the 
 people in Gaza. The US and Israel have colluded to use this famine as a way 
 have their Gaza “Humanitarian” Foundation mercenary front utilize aid 
 sites as a pretext to concentrate Palestinians in order to open fire on 
 them.\n\nOPEN RAFAH CROSSING NOW!\nABOLISH THE US-RUN GAZA HUMANITARIAN 
 FOUNDATION MERCENARY FRONT!\nEND US AID TO ISRAEL!\n\nThis action is part 
 of the @antiwaractionnetwork call to action\n 
 https://www.indybay.org/newsitems/2025/08/06/18878725.php
SUMMARY:San Jose: Break the Siege in Gaza! Rally and March
LOCATION:Federal Building, 280 S 1st St, San Jose
URL:https://www.indybay.org/newsitems/2025/08/06/18878725.php
DTSTART:20250810T200000Z
DTEND:20250810T200000Z
END:VEVENT
END:VCALENDAR
