BEGIN:VCALENDAR
VERSION:2.0
X-WR-CALNAME:www.indybay.org
PRODID:-//indybay/ical// v1.0//EN
BEGIN:VEVENT
UID:Indybay-18878675
SEQUENCE:19053310
CREATED:20250803T010500Z
DESCRIPTION:LABOR DAY CALL TO ACTION\n\nNO FASCISM! Historic 17 x 17k+ Pro-Democracy 
 Protest Along El Camino Real\n\nNo Kings! No Dictators! \n\nJoin us on 
 Labor Day as we stand up to fascism.  We will protest Project 2025 and the 
 authoritarian takeover by corrupt billionaires with 17 miles of resistance 
 by 17,000+ resisters!\n\nDate & time: Labor Day on Monday, Sept. 1, 2025 at 
 11 AM - 1 PM\n\nLocation: 17 mile sidewalk rally along El Camino Real - a 
 pro-democracy human chain stretching from Redwood City to Santa 
 Clara\n\nMore info: https://mvvpj.org/\n\nAs a reminder, this is a 
 peaceful, non-violent event.\n\n\nOn June 14, we united 20k people to stand 
 proudly together in our community, to protect everyone, and defend our 
 democracy, in a joyful, powerful 7 mile line of solidarity. We told the 
 world NO KINGS, and we're doing it again!\n\nWe are back to do it again on 
 Labor Day 2025, expanding our rally this time to 17 miles of \nEl Camino 
 Real, from Redwood City down to Santa Clara, along the south side sidewalk 
 once again. \n\nOn September 1, we will continue the movement we launched 
 together this year, standing in solidarity with all our communities under 
 attack and fighting for real wins for all our people. Together we will 
 demand a world that works for all of us.\n\nPlease note: A core principle 
 behind all our events is a commitment to nonviolent action. We expect all 
 participants to seek to de-escalate any potential confrontation with those 
 who disagree with our values. Weapons of any kind, including those legally 
 permitted, should not be brought to events.\n\n\nOUR DEMANDS TO BUILD THE 
 SOCIETY WE ALL DESERVE:\n\n--Stop the billionaire takeover and rampant 
 corruption of the Trump administration.\n\n--Protect and defend Medicaid, 
 Social Security, and other programs for working people.\n\n--Fully funded 
 schools, and healthcare and housing for all.\n\n--Stop the attacks on 
 immigrants, Black, indigenous, trans people, and all our 
 communities.\n\n--Invest in people not wars.\n\n\nORGANIZATIONS\n\nThis 
 event is brought to you by the experienced team of IdaRose Sylvester & 
 Sally Lieber, representing Together We Will, along with partners Mountain 
 View Voices for Peace, Indivisible Mid-Peninsula, It's Blue Turn, and other 
 partners that will be announced.\n\nLearn more about and stay involved in 
 our work, under the Together We Will banner, 
 www.facebook.com/groups/twwpamv or sign up on our low volume email list at 
 https://tinyurl.com/twwpamvsignup.\n\nYou can see photos and videos of our 
 7x7k rally here https://tinyurl.com/7x7photos.\n\n\nPROTEST 
 SEGMENTS\n\nSIGN UP FOR A SEGMENT HERE: 
 https://signup.com/client/invitation2/secure/93726644091/false#/invitation\n\nPlease 
 note, the Mobilize website requires us to select one location, which is not 
 representative of the actual locations! Google map of all the protest 
 segments: 
 https://www.google.com/maps/d/viewer?mid=1D7IdHVuhEY011opx7S3aSWAKy1GJ_xw&ll=37.421716975314986%2C-122.11951209999998&z=11\n\nPlease 
 see https://www.mobilize.us/mayday/event/815494/ for all the crucial 
 details about this event. People registered there will get critical 
 updates. You will find a detailed list of segments, including end points 
 and landmarks, and information on what to bring and what to expect.\n\nWe 
 encourage people to bring chairs to sit, lots of water, food, sunscreen, 
 and anything else needed for your comfort. Chairs are very helpful to 
 encourage your comfort. We also hope you can support local businesses near 
 where you stand. We strongly encourage American flags to show our 
 solidarity for our country!\n\nOnce you pick your approx. .5 mile section, 
 you can choose any specific location WITHIN that segment on September 1! 
 You may sign up others, when signing yourself up. Please make sure to pick 
 a section!\n\nYou can also sign up to be a segment host, making a 
 commitment to organize 20 or more people to join you. You can also sign up 
 to volunteer on Sept 1, supporting communications, safety, community, and 
 comfort of our attendees. We greatly appreciate if you help with either or 
 both roles. We will contact you later with details if you sign up to 
 volunteer.\n\nClaremont Ave near Redwood City sign (Redwood City) to 
 Broadway near small strip mall (Redwood City)\n\nBroadway Ave near Sequoia 
 High School (Redwood City) to Jefferson Ave near Whole Foods (Redwood 
 City)\n\nJefferson Ave near Vitamin Shoppe (Redwood City) to Oak Ave near 
 Wendy’s (Redwood City)\n\nHazel Ave near Big O Tires (Redwood City) to 
 Oakwood Drive near Oil Changers (Redwood City)\n\nOakwood Drive near 
 Kensington Place Memory Care (Redwood City) to Stockbridge Ave near private 
 residence (Atherton)\n\nStockbridge Ave near private residence (Atherton) 
 to Atherton Ave near private residence (Atherton)\n\nAtherton Ave near 
 private residence (Atherton) to Alejandra Ave near Menlo College playing 
 fields (Menlo Park)\n\nAlejandra Ave near Menlo College entrance (Menlo 
 Park) to Santa Cruz Ave near STACKS (Menlo Park)\n\nSanta Cruz Ave near 
 Custom Framing (Menlo Park) to Middle Ave near Safeway parking lot (Menlo 
 Park)\n\nMiddle Ave near Shell station (Menlo Park) to Sand Hill Road near 
 bridge over creek (Menlo Park/Palo Alto border)\n\nSand Hill Road near 
 Wilkes Bashford (Palo Alto) to Quarry Road near PF Chang’s (Palo 
 Alto)\n\nWells Ave near Arboretum Grove (Palo Alto) to Galvez 
 Street/Embarcadero Road near Stanford entrance (Palo Alto)\n\nGalvez 
 Street/Embarcadero Road near Stanford sign (Palo Alto) to Serra Street near 
 fields/open space (Palo Alto)\n\nSerra Street near housing behind trees 
 (Palo Alto) to California Ave near professional building (Palo 
 Alto)\n\nCalifornia Ave near Wells Fargo (Palo Alto) to Page Mill Road near 
 playing fields (Palo Alto)\n\nPage Mill Road near Palo Alto Square (Palo 
 Alto) to Matedero Ave near Driftwood Deli (Palo Alto)\n\nMatedero Ave near 
 small office building (Palo Alto) to Los Robles Ave near Immersion Spa 
 (Palo Alto)\n\nLos Robles Ave near Montage Apartments (Palo Alto) to 
 Arestradero/Charleston near McLaren dealer (Palo Alto)\n\nArastradero Road 
 near American Tires (Palo Alto) to Crowne Plaza Hotel aka the Cabana Hotel 
 (Palo Alto)\n\nCrowne Plaza Hotel aka the Cabana Hotel (Palo Alto) to San 
 Antonio Road near Teaspoon (Los Altos)\n\nSan Antonio Road near Chef 
 Chu’s (Los Altos) to Showers Drive at Whole Foods (Los Altos)\n\nJordan 
 Drive near Jack in the Box (Los Altos) to Rengstorff Ave near large 
 construction site (Mountain View)\n\nRengstorff Ave near construction site 
 (Mountain View) to El Monte Ave near Office Depot (Mountain View)\n\nEl 
 Monte Ave near Panera (Mountain View) to Shoreline Blvd near Shoreline Auto 
 Care (Mountain View)\n\nShoreline Blvd near Jiffy Lube (Mountain View) to 
 Castro Street near Mr. Sun (Mountain View)\n\nCastro Street near Chase Bank 
 (Mountain View) to Phyllis Ave/Calderon Ave near Big O Tires (Mountain 
 View)\n\nPhyllis Ave/Calderon Ave near big vacant lot (Mountain View) to 
 Grant Road near In n Out (Mountain View)\n\nGrant Road near Alliance 
 Gas/big shopping center (Mountain View) to Sahara Mobile Village (Mountain 
 View)\n\nPalo Alto Medical Foundation (Mountain View) to Bernardo Ave near 
 Arby’s (Sunnyvale)\n\nBernardo Ave near generic gas station (Sunnyvale) 
 to Mary Ave near Stress Free Auto Care (Sunnyvale)\n\nMary Ave near El 
 Pollo Loco (Sunnyvale) to Hollenbeck Ave near Men’s Warehouse 
 (Sunnyvale)\n\nHollenbeck Ave near Valley Radiology (Sunnyvale) to 
 Sunnyvale-Saratoga Road near Boudin (Sunnyvale)\n\nSunnyvale-Saratoga Road 
 near Dave’s Hot Chicken (Sunnyvale) to Remington Drive near Dollar Tree 
 (Sunnyvale)\n\nRemington Drive near In n Out (Sunnyvale) to Tesla Sunnyvale 
 Showroom (next to Mega Mart)\n\nTesla Sunnyvale, next to Mega Mart 
 (Sunnyvale) to South Wolfe Road near new construction behind stand of trees 
 (Sunnyvale)\n\nSouth Wolfe Road near community announcement banner 
 (Sunnyvale) to Henderson Ave near India Cash & Carry 
 (Sunnyvale)\n\nHenderson Ave near small strip mall (Sunnyvale) to Lawrence 
 Expressway just before on ramp/near Santa Clara welcome bridge (Santa 
 Clara)\n https://www.indybay.org/newsitems/2025/08/02/18878675.php
SUMMARY:#NoFascism: Hands Across Santa Clara to Redwood City - 17 Mile Protest Along El Camino
LOCATION:LABOR DAY: sidewalk along El Camino Real from Redwood City down to Santa 
 Clara\n\nStarts from Claremont Ave near Redwood City sign all the way to 
 Lawrence Expressway just before on-ramp near the Santa Clara welcome 
 bridge.\n\nSIGN UP FOR A SEGMENT HERE: 
 https://signup.com/client/invitation2/secure/93726644091/false#/invitation\n\nThis 
 is a peaceful, non-violent Labor Day action.
URL:https://www.indybay.org/newsitems/2025/08/02/18878675.php
DTSTART:20250901T180000Z
DTEND:20250901T200000Z
END:VEVENT
END:VCALENDAR
