BEGIN:VCALENDAR
VERSION:2.0
X-WR-CALNAME:www.indybay.org
PRODID:-//indybay/ical// v1.0//EN
BEGIN:VEVENT
UID:Indybay-18878340
SEQUENCE:19051951
CREATED:20250725T060400Z
DESCRIPTION:Palestine Film Screening + mutual aid fundraiser for Mohammad family in 
 Gaza - August 6th, 6pm at SubRosa, 703 Pacific Ave\n\nNuseirat 274: The 
 Hostages Massacre (a documentary by Al Jazeera) - “The film reveals new 
 details about one of the bloodiest massacres perpetrated by the Israeli 
 occupation forces during its war on Gaza, which resulted in the deaths of 
 274 Palestinians and the injury of 814 others in a single day.”\n\nFrom 
 the graphic - “Please join us for a community film screening of Nuseirat 
 274 and mutual aid fundraiser for dear friends Yazan and Ayham 
 Mohammad.”\n\nMasks strongly recommended and will be provided at the 
 door.\n\n6pm // donation at door - notaflof!* // all-ages // dry space // 
 safe(r) space // anti-capitalist space // respect the space and each 
 other!\n\n*no one turned away for lack of funds\n\nPlease consider donating 
 to Yazan and Ayham here: 
 https://chuffed.org/project/130573-aid-for-yazan-and-his-family-in-gaza AND 
 here: 
 https://chuffed.org/project/135160-support-ayham-and-his-family-in-gaza\n\n—@@@@@—\n\nSubRosa 
 is a collectively run anarchist community space - a place to meet people, 
 share resources and ideas, challenge our assumptions and act on our 
 passions. Let’s create together the world(s) we want to live in now. 
 @subrosa_space\n\nAnd SubRosa is part of the Hub Community Center at 703 
 Pacific Ave in downtown Santa Cruz - a constellation of projects that 
 support skill-sharing, appropriate re/use of resources, and interconnected, 
 creative communities - since 1994! More about the Hub is at linktree in bio 
 @santacruzhub\n https://www.indybay.org/newsitems/2025/07/24/18878340.php
SUMMARY:Palestine Film Screening - Nuseirat 274: The Hostages Massacre
LOCATION:SubRosa Community Space, 703 Pacific Ave, Santa Cruz
URL:https://www.indybay.org/newsitems/2025/07/24/18878340.php
DTSTART:20250807T010000Z
DTEND:20250807T010000Z
END:VEVENT
END:VCALENDAR
