BEGIN:VCALENDAR
VERSION:2.0
X-WR-CALNAME:www.indybay.org
PRODID:-//indybay/ical// v1.0//EN
BEGIN:VEVENT
UID:Indybay-18878024
SEQUENCE:19051485
CREATED:20250716T172600Z
DESCRIPTION:Create Art together and learn about the current social movement in El 
 Salvador!\n\nJuly 19th 1pm to 3pm - Food Drinks Art!\n\nCenter for Social 
 and Economic Justice\n\n2973 16th Street 3rd floor\n\nSan Francisco, CA 
 94110\n https://www.indybay.org/newsitems/2025/07/16/18878024.php
SUMMARY:CISPES Art Build event
LOCATION:2973 16th St. thrid floor. San Francisco. door code #003
URL:https://www.indybay.org/newsitems/2025/07/16/18878024.php
DTSTART:20250719T200000Z
DTEND:20250719T220000Z
END:VEVENT
END:VCALENDAR
