BEGIN:VCALENDAR
VERSION:2.0
X-WR-CALNAME:www.indybay.org
PRODID:-//indybay/ical// v1.0//EN
BEGIN:VEVENT
UID:Indybay-18878023
SEQUENCE:19051481
CREATED:20250716T172500Z
DESCRIPTION:Please come out and join me in protesting the Medicaid cuts, the ICE 
 violence and all of the other destruction of our nation by Trump. (This my 
 first try at starting a protest in Berkeley. I picked this location because 
 there is senior affordable housing here and lots of traffic.)\n 
 https://www.indybay.org/newsitems/2025/07/16/18878023.php
SUMMARY:No Kings-No Ice-No Medicaid Cuts
LOCATION:Corner of Adeline and Oregon in Berkeley (Berkeley Bowl)
URL:https://www.indybay.org/newsitems/2025/07/16/18878023.php
DTSTART:20250719T000000Z
DTEND:20250719T010000Z
END:VEVENT
END:VCALENDAR
