BEGIN:VCALENDAR
VERSION:2.0
X-WR-CALNAME:www.indybay.org
PRODID:-//indybay/ical// v1.0//EN
BEGIN:VEVENT
UID:Indybay-18877999
SEQUENCE:19051488
CREATED:20250715T044600Z
DESCRIPTION:7/17/25 SF LaborTech Conference-Techno Fascism  AI Robotics & The Future Of 
 The Working Class\n\nAt: The Eric Quezada Center for Culture and Politics 
 – 518 Valencia, San Francisco\n\nSan Francisco is ground zero for the 
 development of AI, robotics and the elimination of hundreds of millions of 
 jobs which is driving the investment in this technology. As Writers Guild 
 and SAG AFTRA unionists said the issue of AI was existential in their 
 struggle for a future.\n\nThis conference will look at how AI is affecting 
 drivers, tech workers and whether AI should be developed at all. \n\nIt 
 will also look at the billionaire techno fascists who not only are the 
 richest people in the world but are in control of the US government 
 including DOGE which was run by Elon Musk and his gang.\n\nIt will also 
 discuss how unions and working people can confront these challenges and how 
 workers can take control of this technology and how it can be used for the 
 liberation of working people.\n\n11:30 am: PANEL ONE: The ideology, history 
 and methods of Techno Fascism\n1:00 pm: Drivers, Robotic And 
 Generative\n2;30 pm:Education, Journalism,  & Healthcare and How AI Affects 
 Their Future\n4:00pm: The Politics & Program For AI & 
 Technology\n\nSponsored by LaborNet, WorkWeek\n 
 https://www.indybay.org/newsitems/2025/07/14/18877999.php
SUMMARY:SF LaborTech Conference-Techno Fascism AI Robotics & The Future of the Working Class
LOCATION:The Eric Quezada Center for Culture and Politics – 518 Valencia, San 
 Francisco
URL:https://www.indybay.org/newsitems/2025/07/14/18877999.php
DTSTART:20250719T183000Z
DTEND:20250719T213000Z
END:VEVENT
END:VCALENDAR
