BEGIN:VCALENDAR
VERSION:2.0
X-WR-CALNAME:www.indybay.org
PRODID:-//indybay/ical// v1.0//EN
BEGIN:VEVENT
UID:Indybay-18877866
SEQUENCE:19051239
CREATED:20250707T010100Z
DESCRIPTION:Join SCCRU members at Little Giant Collective (115 River St next to MOBO 
 Sushi) on July 19th for a launch party of our Tenant Power Zine!! 
 \n\n⭐️ Grab a free zine about tenant organizing & rights \n⭐️ Bring 
 a shirt to screen print \n⭐️ Hang out with neighbors and other renters 
 \n⭐️ Join the union!!!\n 
 https://www.indybay.org/newsitems/2025/07/06/18877866.php
SUMMARY:Tenant Power Zine Launch!
LOCATION:Little Giant Collective, 115 River St, Santa Cruz
URL:https://www.indybay.org/newsitems/2025/07/06/18877866.php
DTSTART:20250719T190000Z
DTEND:20250719T210000Z
END:VEVENT
END:VCALENDAR
