BEGIN:VCALENDAR
VERSION:2.0
X-WR-CALNAME:www.indybay.org
PRODID:-//indybay/ical// v1.0//EN
BEGIN:VEVENT
UID:Indybay-18877865
SEQUENCE:19051236
CREATED:20250706T214100Z
DESCRIPTION:Every Monday 4:30- 5:30 pm we're protesting all of the assaults on the 
 constitution and our civil rights by Trump and his minions. Current issues 
 include kidnappings and beatings by masked ICE vigilantes without warrants, 
 National Guard/Marines deployed in L.A., new Detention Camps, and the 
 growing Disappeared. And of course, the destruction of Medicaid, SNAP and 
 the rule of law. We are peaceful and try not to get into it with any 
 hecklers.\n\nCome join us!  It will lift your spirits. There are pre-made 
 signs available. If you have noisemakers, bring 'em!\n 
 https://www.indybay.org/newsitems/2025/07/06/18877865.php
SUMMARY:Protest Against the Trump Regime
LOCATION:Corner of Ocean and Water Streets in Santa Cruz.
URL:https://www.indybay.org/newsitems/2025/07/06/18877865.php
DTSTART:20250707T233000Z
DTEND:20250708T003000Z
END:VEVENT
END:VCALENDAR
