BEGIN:VCALENDAR
VERSION:2.0
X-WR-CALNAME:www.indybay.org
PRODID:-//indybay/ical// v1.0//EN
BEGIN:VEVENT
UID:Indybay-18877786
SEQUENCE:19051101
CREATED:20250703T184600Z
DESCRIPTION:Independence Day on Friday, July 4 at 5 – 6 PM\n\nThis is a local 
 Indivisible West CoCo County event! Join us on our regular Friday evening 
 vigil to celebrate our FREEDOM, our INDEPENDENCE, our FLAG, our COUNTRY, 
 and our DEMOCRACY!\n\nAmerica is in crisis. Real democracy feels out of 
 reach. Freedom is in trouble. And yet, we come together as a community on 
 this special day to celebrate the very essence of what it means to be an 
 American--we celebrate the strength of our DIVERSITY, we celebrate our 
 commitment to JUSITICE to EQUITY, and to TRUTH! This event will be in the 
 spirit of a celebration, not a protest.\n\nWe will be having our regular 
 local FOOD DRIVE & TOWELS & TOILETRIES DRIVE.\n\nIf you can bring a can/box 
 of nonperishable food to share with our neighbors &/or towels/toiletries 
 for our unhoused neighbors that would be much appreciated.\n\nYes! We will 
 celebrate! We will not surrender - not now - not ever!\n\nA core principle 
 behind all Indivisible events is a commitment to nonviolent action. We 
 expect all participants to seek to de-escalate any potential confrontation 
 with those who disagree with our values.\n\n 
 https://www.indybay.org/newsitems/2025/07/03/18877786.php
SUMMARY:El Sobrante: Red, White & Blue - Celebrate Democracy Sidewalk Rally & Food Drive
LOCATION:Intersection of San Pablo Dam Road & Appian Way\nEl Sobrante, CA 94803
URL:https://www.indybay.org/newsitems/2025/07/03/18877786.php
DTSTART:20250705T000000Z
DTEND:20250705T010000Z
END:VEVENT
END:VCALENDAR
