BEGIN:VCALENDAR
VERSION:2.0
X-WR-CALNAME:www.indybay.org
PRODID:-//indybay/ical// v1.0//EN
BEGIN:VEVENT
UID:Indybay-18877785
SEQUENCE:19051224
CREATED:20250703T173400Z
DESCRIPTION:Come join Project Open Hand’s Young Professionals Council to help raise 
 funds to provide healthy meals to people living with HIV/AIDS and other 
 chronic illnesses and seniors!\n\nTrivia: 7:30-9, bring ur friends to form 
 a competitive trivia team!!\n\nRaffles: ongoing raffle tix sales for 
 awesome prizes from local vendors, see below!!\n\nDrinks: usual bar 
 cocktails + a drink special where proceeds go towards Project Open 
 Hand\n\nPrizes for raffle and trivia include gift cards/ items from:\n- 
 Fabulosa Books\n- Good Life Grocery\n- SF Mercantile\n- Mission Bowling 
 Club\n- Holey Moley\n- Roxie Theater\n- Ike's Sandwiches\n- EscapeSF\n\nTo 
 learn more about Project Open Hand and their important work: 
 https://www.openhand.org/\n 
 https://www.indybay.org/newsitems/2025/07/03/18877785.php
SUMMARY:Raffle & Trivia Fundraiser for Project Open Hand
LOCATION:Teeth Bar SF\n2323 Mission St, San Francisco, CA 94110
URL:https://www.indybay.org/newsitems/2025/07/03/18877785.php
DTSTART:20250711T020000Z
DTEND:20250711T050000Z
END:VEVENT
END:VCALENDAR
