BEGIN:VCALENDAR
VERSION:2.0
X-WR-CALNAME:www.indybay.org
PRODID:-//indybay/ical// v1.0//EN
BEGIN:VEVENT
UID:Indybay-18877773
SEQUENCE:19051082
CREATED:20250703T143900Z
DESCRIPTION:In the Name of Humanity, We Declare Our Independence from Trump's Fascist 
 America!\n\nJuly 1-4*: San Francisco Bay Area Four Days of Resistance: 
 "Refuse Fascism Resistance Hub" in Dolores Park, San Francisco\n\nThu, July 
 3, 4:00 PM: Protest art & sign making\n\nThu, July 3, 7:00 PM: “Hands 
 across Dolores Park” Mass action\n\n\nJoin Refuse Fascism (NorCal) and 
 others for four days of bold, loud, non-violent but determined actions to 
 bring people together, grow this movement, declare our independence from 
 Trump’s fascist America, and demand the removal of the Trump fascist 
 regime.\n\nOn July 4th, at 8:00 PM the days of resistance will culminate in 
 a “Trump Must Go NOW!” march from Mission Dolores Park to Pier 39, 
 ending in an Anti-fascist Dance Party in the streets under the 
 fireworks!\n\nDM us on Instagram @refusefascism.norcal or email at 
 norcal@refusefascism.org to volunteer, support & contribute in different 
 ways. \n\n*See full schedule of events and actions July 1-4 below or go to 
 bit.ly/m/RFnorcal\n\nTue, July 1, 6:00 PM: “Trump Must Go NOW!” 
 Kick-off Rally\n\nTue, July 1, 7:00 PM: Open mic with the theme of “In 
 the name of humanity, we declare our independence from Trump’s fascist 
 America!\n\nWed, July 2, 6:00 PM: “What is fascism & how can we defeat 
 it?” Forum\n\nWed, July 2, 8:30 PM: “The Square” (2013) Film 
 screening & discussion\n\nThu, July 3, 4:00 PM: Protest art & sign 
 making\n\nThu, July 3, 7:00 PM: “Hands across Dolores Park” Mass 
 action\n\nFriday, July 4, 8:00 PM: Meet at Dolores Park and march together 
 towards Pier 39 for an Anti-fascist dance party under the fireworks!\n 
 https://www.indybay.org/newsitems/2025/07/03/18877773.php
SUMMARY:Trump Must Go NOW! Hands Across Dolores Park Mass Protest
LOCATION:Dolores Park\n18th Street and Dolores Street\nSan Francisco
URL:https://www.indybay.org/newsitems/2025/07/03/18877773.php
DTSTART:20250703T230000Z
DTEND:20250704T030000Z
END:VEVENT
END:VCALENDAR
