BEGIN:VCALENDAR
VERSION:2.0
X-WR-CALNAME:www.indybay.org
PRODID:-//indybay/ical// v1.0//EN
BEGIN:VEVENT
UID:Indybay-18877769
SEQUENCE:19051075
CREATED:20250703T083300Z
DESCRIPTION:Follow us on Bluesky @the-wolves.bsky.social‬\n\nPLEASE READ COMPLETELY 
 before attending!\n\nThis is a peaceful, nonviolent protest. Our goal is to 
 call attention to Musk’s corruption and to defund Musk.\n\nMake sure not 
 to block the Tesla driveway entrances. We will stay completely on the 
 public sidewalk and off of Tesla property, and cross only with lights. 
 Signs, drums, flags, and similar items are welcome.\n\nThis is a peaceful 
 demonstration, and any conflicts or altercations will not be tolerated. 
 Walk away if one arises and report it to the demonstration leader on site 
 if it is a serious altercation. We will comply with requests from the 
 police, including if we are asked to leave.\n\nDo not boo or confront Tesla 
 drivers or cars, or Tesla employees. Remember that most Tesla drivers are 
 our allies, and many are protesting with us!\n\nWear your favorite wig, big 
 hat, or costume. We want to have fun and to feel like a party during our 
 demonstrations!\n\nNo one voted for Musk. Join the peaceful Tesla Takedown 
 movement!\n\nPlease Note: Photos may be taken and published at this event, 
 including by attendees and professional photographers. If you prefer not to 
 have your image captured or shared, please take your own precautions (e.g., 
 wear a mask, hat, or wig)\n 
 https://www.indybay.org/newsitems/2025/07/03/18877769.php
SUMMARY:Protest Elon Musk's Fascist Government Takeover - Stanford Saturdays
LOCATION:Stanford Tesla•393 Stanford Shopping Center , Palo Alto, CA 94304 US
URL:https://www.indybay.org/newsitems/2025/07/03/18877769.php
DTSTART:20250712T190000Z
DTEND:20250712T210000Z
END:VEVENT
END:VCALENDAR
