BEGIN:VCALENDAR
VERSION:2.0
X-WR-CALNAME:www.indybay.org
PRODID:-//indybay/ical// v1.0//EN
BEGIN:VEVENT
UID:Indybay-18877622
SEQUENCE:19050842
CREATED:20250627T084400Z
DESCRIPTION:This Sunday, June 29th, from 12pm to 2pm, we will gather once again at 
 Heyma Yemeni Coffee, located at 1122 University Ave in Berkeley, to raise 
 our voices in solidarity with the Palestinian people amid the ongoing 
 genocide.\n\nTogether, we will write urgent letters to the Hague Group, a 
 coalition dedicated to justice for Palestine, calling for the immediate 
 deployment of an international protective force to stop the genocide, 
 guarantee unimpeded humanitarian aid, and uphold the Palestinian people’s 
 right to self-determination. We will also send letters to the Egyptian 
 Embassy, demanding the swift reopening of the Rafah border crossing to 
 allow essential humanitarian aid into Gaza and to support activists 
 challenging Israel’s blockade. Additionally, we will continue pressing 
 Senators Padilla and Schiff, along with other U.S. officials, to abide by 
 U.S. and international law by ending their support for Israel’s ongoing 
 genocide and ethnic cleansing of Palestinians. Our calls will extend to 
 urging city governments to divest from corporations profiting from war, 
 genocide, and military occupation. Scripts, addresses, stamps, and 
 postcards will be provided.\n\nWe must not yield in our commitment to a 
 liberated Palestine. Write postcards with us; call Congress from home; join 
 local actions; sign petitions; contribute to mutual aid groups; support 
 NGOs on the ground; boycott Israel’s products and those of companies 
 profiting from the oppression of Palestinians (use apps like Boycat and 
 NoThanks, as well as the AFSC website Disoccupied.com, to guide your 
 ethical consumer choices). We’re in this together for the long haul to 
 end Israel’s illegal occupation of Palestine.\n\n*** We’ve been hosting 
 this pop-up almost since December 2023, and we’re grateful for the 
 ongoing support. To help cover costs, we’re kindly asking for donations 
 to purchase stamps and postcards. Alternatively, feel free to bring your 
 own stamps and postcards to contribute.\n 
 https://www.indybay.org/newsitems/2025/06/27/18877622.php
SUMMARY:Ceasefire Postcards Pop-Up at Heyma Yemeni Coffee
LOCATION:1122 University Ave in Berkeley
URL:https://www.indybay.org/newsitems/2025/06/27/18877622.php
DTSTART:20250629T190000Z
DTEND:20250629T210000Z
END:VEVENT
END:VCALENDAR
