BEGIN:VCALENDAR
VERSION:2.0
X-WR-CALNAME:www.indybay.org
PRODID:-//indybay/ical// v1.0//EN
BEGIN:VEVENT
UID:Indybay-18877541
SEQUENCE:19050766
CREATED:20250624T130300Z
DESCRIPTION:Palantir Powers ICE - Shut Down Palantir! \n\nThursday, June 26, 
 2025•12:00 PM\nLocation:Palantir Office•100 Hamilton Avenue, Palo Alto, 
 CA 94301 US\n\nPalantir powers ICE. From abductions to the genocide in 
 Palestine, Palantir makes billions off surveillance, deportation, and war. 
 \n\nPalantir's technology allow ICE to identity, locate, and kidnap 
 migrants en masse. Their spy-cop tools tracks activists and organizers. The 
 IDF uses Palantir tech to commit genocide in Gaza. \n\nNow, Palantir is 
 building out the biggest and most dangerous mass surveillance system in 
 modern US history. Their data platform would have access to, and integrate 
 across federal agencies, the private personal information of every single 
 person in the US: from our bank records to medical data, immigration 
 status, and more. The possibilities for mass abuse at the hands of the US 
 government would be unimaginable. \n\nPalantir co-founder and chairman 
 Peter Thiel is one of Trump's biggest donors. In exchange, Trump has 
 funneled at least $113 million in federal contracts to build out these 
 dystopian spy-cop technologies. \n\nWe have to stop these horrors. \n\nJune 
 26th. 12pm. 100 Hamilton Ave, Palo Alto. All out to Palantir.\n 
 https://www.indybay.org/newsitems/2025/06/24/18877541.php
SUMMARY:Palantir Powers ICE - Shut Down Palantir!
LOCATION:100 Hamilton Ave, Palo Alto.\nNear Caltrain stop -- Palo Alto University 
 Ave
URL:https://www.indybay.org/newsitems/2025/06/24/18877541.php
DTSTART:20250626T190000Z
DTEND:20250626T210000Z
END:VEVENT
END:VCALENDAR
