BEGIN:VCALENDAR
VERSION:2.0
X-WR-CALNAME:www.indybay.org
PRODID:-//indybay/ical// v1.0//EN
BEGIN:VEVENT
UID:Indybay-18877469
SEQUENCE:19062772
CREATED:20250622T152700Z
DESCRIPTION:Trump’s unprovoked bombing of Iranian nuclear facilities yesterday is an 
 outright war crime. It violates the UN Charter, international law, and the 
 U.S. Constitution. It threatens to set into motion a regional or even 
 global war with massive casualties, nuclear radiation, and catastrophic 
 consequences. The people of the US and the world reject this new war of 
 aggression. This is the critical moment to say NO to yet another war to 
 “remake” the Middle East and steal the region’s vast natural 
 resources. Iran has no weapons of mass destruction and wasn't building 
 them.  It's the US and Israel that have WMD's!\n\nTrump lied during the 
 campaign when he said he was going to end the “forever wars” and bring 
 about peace. He and Netanyahu have repeatedly lied about an Iranian nuclear 
 weapons program. He is no different from George W. Bush who lied about 
 “weapons of mass destruction” to initiate the catastrophic war in 
 Iraq.\n\nJoin us in the street TODAY, Sunday, June 22 at 2pm as we demand 
 an immediate end to US and Israeli attacks on Iran and its sovereignty. The 
 people of the US want more funding for health care, education and 
 infrastructure. Instead, Trump and his war hawks are launching a new war 
 that puts the world at risk, will cause the bloodshed of Iranians (and 
 ultimately Americans) and only benefits the military-industrial complex.\n 
 https://www.indybay.org/newsitems/2025/06/22/18877469.php
SUMMARY:EMERGENCY PROTEST re War on IRAN
LOCATION:Meet at Embarcadero Plaza, San Fran.  Stay there or march?
URL:https://www.indybay.org/newsitems/2025/06/22/18877469.php
DTSTART:20250622T210000Z
DTEND:20250622T223000Z
END:VEVENT
END:VCALENDAR
