BEGIN:VCALENDAR
VERSION:2.0
X-WR-CALNAME:www.indybay.org
PRODID:-//indybay/ical// v1.0//EN
BEGIN:VEVENT
UID:Indybay-18877375
SEQUENCE:19050538
CREATED:20250620T020000Z
DESCRIPTION:Resilient Comedy is a new monthly comedy series, launched in March and 
 hosted by Lisa Geduldig, Producer of Kung Pao Kosher Comedy and other Bay 
 Area comedy shows. \n\nThe show takes place one Sunday a month at the 
 Eclectic Box (formerly StageWerx), an 80-seat black box theater in San 
 Francisco’s Mission District. \n\nStaying sane in current times is going 
 to mean taking time to experience joy and laughter. The shows will also 
 raise awareness and funds for organizations doing life-saving work. 
 \n\nEach month, partial proceeds will benefit a different organization. 
 Partial proceeds from the July 13th show will benefit SF-Marin Food 
 Bank.\n\nSunday, July 13, 2025 at 7pm \n\nFeaturing Sampson McCormick, Nina 
 G, Joseph Nguyen, and Lisa Geduldig\n\nTickets: $25-$50. 
 www.CityBoxOffice.com/Resilient-Comedy\n\n 
 https://www.indybay.org/newsitems/2025/06/19/18877375.php
SUMMARY:Resilient Comedy
LOCATION:Eclectic Box\n446 Valencia St\nSan Francisco, CA 94103
URL:https://www.indybay.org/newsitems/2025/06/19/18877375.php
DTSTART:20250714T020000Z
DTEND:20250714T033000Z
END:VEVENT
END:VCALENDAR
