BEGIN:VCALENDAR
VERSION:2.0
X-WR-CALNAME:www.indybay.org
PRODID:-//indybay/ical// v1.0//EN
BEGIN:VEVENT
UID:Indybay-18877290
SEQUENCE:19062777
CREATED:20250615T224200Z
DESCRIPTION:Join CODEPINK Bay Area marching in solidarity with the Global March to 
 Gaza, 6/15-6/20. Five  main demands: 1. Ceasefire 2. Open the Gaza border 
 for aid 3. Withdrawal of Israeli forces from Gaza 4. A reconstruction 
 program 5. End of colonization in the West Bank. \n\nMarch from Israeli 
 Consulate @456 Montgomery St., to Senator Alex "I'm fine voting billions of 
 U.S. tax dollars for weapons to Israel" Padilla's office @333 Bush St., 
 then to Senator Adam "Love me I'm a Zionist and I don't care how many 
 children starve and die" Schiff's office @One Post, SF. Demand that Israel 
 end the genocide and open the Rafah Border Crossing for aid to enter Gaza. 
 Demand that Padilla and Schiff stop using our tax dollars to furnish lethal 
 weapons to Israel killing thousands of civilians. March in solidarity with 
 the Global March to Gaza. Program with singer-songwriter Betsy Rose, 
 poetry, chalking, enactment of drama to open the Rafah Border Crossing, 
 w/starving Palestinians, IDF border guards, Settlers, Aid Workers, and 
 Marchers who finally get the border open. Bring bowls and pots symbolizing 
 starvation, signs, march with our red banners with names of children 
 murdered by Israel with US weapons/financing. Family-friendly, pro-peace, 
 anti-genocide and war.\n 
 https://www.indybay.org/newsitems/2025/06/15/18877290.php
SUMMARY:No War on Iran! Arms Embargo Now! End the Genocide! Open the Border Now!
LOCATION:March from Israeli Consulate, 456 Montgomery St. to Senator Alex "I'm fine 
 spending billions of U.S. taxes on weapons for Genocide" Padilla @ 333 Bush 
 St., to Senator Adam "Love Me I'm a Zionist" Schiff @One Post. 
URL:https://www.indybay.org/newsitems/2025/06/15/18877290.php
DTSTART:20250620T220000Z
DTEND:20250621T000000Z
END:VEVENT
END:VCALENDAR
