BEGIN:VCALENDAR
VERSION:2.0
X-WR-CALNAME:www.indybay.org
PRODID:-//indybay/ical// v1.0//EN
BEGIN:VEVENT
UID:Indybay-18877286
SEQUENCE:19050648
CREATED:20250615T215300Z
DESCRIPTION:Every Monday 4:30- 5:30 pm we're protesting all of the assaults on our 
 civil rights by Trump and his minions. Come join us! There are pre-made 
 signs available. Current issues include mass deportations/kidnappings by 
 masked ICE goons without warrants, Marines deployed in L.A., violence 
 against Senator Padilla and attacks on free speech. We are peaceful and try 
 not to get into it with any hecklers.\n 
 https://www.indybay.org/newsitems/2025/06/15/18877286.php
SUMMARY:UPDATED: Protest Against the Trump Regime
LOCATION:Corner of Ocean and Water Streets in Santa Cruz
URL:https://www.indybay.org/newsitems/2025/06/15/18877286.php
DTSTART:20250623T233000Z
DTEND:20250624T003000Z
END:VEVENT
END:VCALENDAR
