BEGIN:VCALENDAR
VERSION:2.0
X-WR-CALNAME:www.indybay.org
PRODID:-//indybay/ical// v1.0//EN
BEGIN:VEVENT
UID:Indybay-18877041
SEQUENCE:19050083
CREATED:20250607T142000Z
DESCRIPTION:In 1893 Frederick Jackson Turner proposed the Frontier Thesis, namely that 
 with the end of substantial homesteading opportunities due to land 
 enclosures, the American Dream mythos was at an end and a new era of 
 reactionary domination by the land-owning class was at hand. At hand were 
 the socio-economic ideas of the San Franciscan Henry George, ready to 
 reconstruct the American Dream, albeit in a robustly democratic 
 communitarian way.\n\nCome along on a FREE walking tour that explores San 
 Francisco's Gold Rush century, the 19th, tracing the evolution of the city 
 from an Ohlone fishing village to an apocalyptic charred Jericho.\n 
 https://www.indybay.org/newsitems/2025/06/07/18877041.php
SUMMARY:Frederick Jackson Turner's Frontier Thesis meets San Francisco: the walking tour
LOCATION:meet in the lobby of the American Youth Hostel\n312 Mason Street\nSF
URL:https://www.indybay.org/newsitems/2025/06/07/18877041.php
DTSTART:20250607T193000Z
DTEND:20250607T213000Z
END:VEVENT
END:VCALENDAR
