BEGIN:VCALENDAR
VERSION:2.0
X-WR-CALNAME:www.indybay.org
PRODID:-//indybay/ical// v1.0//EN
BEGIN:VEVENT
UID:Indybay-18876955
SEQUENCE:19049964
CREATED:20250602T201400Z
DESCRIPTION:An evening with internationally renowned peace activists Maoz Inon, Aziz 
 Abu Sarah, conversing about building peace, followed by a musical 
 performance by Iman Jordan. \n 
 https://www.indybay.org/newsitems/2025/06/02/18876955.php
SUMMARY:A Night of Music & Action for Peace with Aziz Abu Sarah, Maoz Inon, & Iman Jordan
LOCATION:The Riverbank, Vallejo
URL:https://www.indybay.org/newsitems/2025/06/02/18876955.php
DTSTART:20250615T023000Z
DTEND:20250615T023000Z
END:VEVENT
END:VCALENDAR
