BEGIN:VCALENDAR
VERSION:2.0
X-WR-CALNAME:www.indybay.org
PRODID:-//indybay/ical// v1.0//EN
BEGIN:VEVENT
UID:Indybay-18876923
SEQUENCE:19049915
CREATED:20250601T165800Z
DESCRIPTION:Dear Bay Area Human Rights Community:\n\nPlease join us in San Francisco in 
 solidarity with human rights defenders around the world for the coordinated 
 monthly global vigils calling to end the ongoing human rights abuses at 
 Guantánamo, close the detention center once and for all, and stop the 
 cruel, inhumane, unlawful deportations NOW!\n\nJoin us in San Francisco as 
 part of the 1st Wednesday monthly global vigils calling to close Gitmo!  
 Dismantle the mass deportation machine and invest in our communities 
 NOW!\n\nWednesday, June 4th at 6PM\nAt the corner of Mission St. @22nd 
 St.\nMission District, San Francisco\n 
 https://www.indybay.org/newsitems/2025/06/01/18876923.php
SUMMARY:Close Guantánamo & Dismantle the Inhumane Deportation Machine! Stop Deportations NOW!
LOCATION:Mission Street @ 22nd Street San Francisco, CA
URL:https://www.indybay.org/newsitems/2025/06/01/18876923.php
DTSTART:20250605T010000Z
DTEND:20250605T020000Z
END:VEVENT
END:VCALENDAR
