BEGIN:VCALENDAR
VERSION:2.0
X-WR-CALNAME:www.indybay.org
PRODID:-//indybay/ical// v1.0//EN
BEGIN:VEVENT
UID:Indybay-18876875
SEQUENCE:19049850
CREATED:20250601T030300Z
DESCRIPTION:Welcome to NARD 15 in San Francisco! ● A Rally featuring esteemed 
 speakers on the subject of animal rights.● A March in support of the 
 progress that is being made towards getting non-human animals legal rights 
 to help end their suffering and promote their freedom.● A Memorial 
 Ceremony to commemorate the billions of animals who die every year by human 
 hands.\n\n https://www.indybay.org/newsitems/2025/05/31/18876875.php
SUMMARY:National Animal Rights Day (NARD) 2025 San Francisco
LOCATION:Simon Bolivar Statue and UN Plaza near Civic Center Bart
URL:https://www.indybay.org/newsitems/2025/05/31/18876875.php
DTSTART:20250601T200000Z
DTEND:20250601T220000Z
END:VEVENT
END:VCALENDAR
