BEGIN:VCALENDAR
VERSION:2.0
X-WR-CALNAME:www.indybay.org
PRODID:-//indybay/ical// v1.0//EN
BEGIN:VEVENT
UID:Indybay-18876866
SEQUENCE:19050287
CREATED:20250531T170000Z
DESCRIPTION:NO KINGS OR THEIR CLOWNS\n\nFlag Day on Saturday, June 14, 2025 at 11:00 AM 
 - 1 PM\n\n🚨On Flag Day, Indivisible Sonoma County alongside partner 
 resistance organizations, taking to the streets to participate in a "NO 
 KINGS OR THEIR CLOWNS" non-violent action.🚨\n\nOn Saturday, June 14, we 
 are meeting on Farmer’s Lane, starting from 4th Street. This 1/2 mile 
 stretch may not be as long as Trump’s  military march, but it’s going 
 to have even more clowns. And not a single one of them will be putting our 
 country in danger, unlike the ones who surround the current 
 president.\n\nBe sure to wear your best clown gear – red noes, big shoes, 
 crazy wig – to make it lear we don't want these clowns running our 
 democracy.\n\nNO KINGS is a National Day of Action and mass mobilization 
 where concerned citizens are gathering to protest the authoritarian 
 excesses and corruption of this administration. Freedoms we hold dear 
 including free speech, due process, and the rule of law are at risk, all 
 while the president seeks to enrich himself and his billionaire 
 cronies.\n\nThe flag doesn’t belong to Donald Trump. It belongs to us. 
 We’re not watching history happen. We’re making it.\n\nJoin us to make 
 our voices heard as we say, “no thrones, no crowns, NO KINGS”. We’re 
 not watching history happen. We’re making it.\n\nIndivisible and partner 
 organizations are committed to nonviolent action. All participants are 
 expected to seek to de-escalate any potential confrontation with those who 
 disagree with our values.\n 
 https://www.indybay.org/newsitems/2025/05/31/18876866.php
SUMMARY:Santa Rosa: No Kings or Their Clowns!
LOCATION:Farmers Lane starting from 4th Street\nSanta Rosa, CA 95405\n\nRed noses & 
 clown and/or colorful silly attire encouraged, but not required :) \n\nThis 
 is a peaceful protest.  
URL:https://www.indybay.org/newsitems/2025/05/31/18876866.php
DTSTART:20250614T180000Z
DTEND:20250614T200000Z
END:VEVENT
END:VCALENDAR
