BEGIN:VCALENDAR
VERSION:2.0
X-WR-CALNAME:www.indybay.org
PRODID:-//indybay/ical// v1.0//EN
BEGIN:VEVENT
UID:Indybay-18876801
SEQUENCE:19049747
CREATED:20250528T173800Z
DESCRIPTION:Juneteenth celebrates the Emancipation Proclamation and the supposed end of 
 slavery.\n\nOur theme for our 33 year is Body, Health & Mind at the 
 historic London Nelson Center. LNC - named after a former slave who spent 
 his final years in Santa Cruz as a free man.\n\nEnjoy music, poetry, dance, 
 delicious soul food, arts & crafts, basketball skills contest, and the 
 annual sack race.\n\nJoin the 2nd line sidewalk parade starting at noon 
 from City Hall.\n https://www.indybay.org/newsitems/2025/05/28/18876801.php
SUMMARY:Santa Cruz Juneteenth Celebration 2025
LOCATION:Laurel Park/London Nelson Community Center, 301 Center St, Santa Cruz
URL:https://www.indybay.org/newsitems/2025/05/28/18876801.php
DTSTART:20250614T190000Z
DTEND:20250615T000000Z
END:VEVENT
END:VCALENDAR
