BEGIN:VCALENDAR
VERSION:2.0
X-WR-CALNAME:www.indybay.org
PRODID:-//indybay/ical// v1.0//EN
BEGIN:VEVENT
UID:Indybay-18876586
SEQUENCE:19049430
CREATED:20250518T171600Z
DESCRIPTION:Join us as we take collective action to demand an arms embargo to Israel, 
 immediate end to the genocide, a lasting ceasefire and an end to Israeli 
 siege, apartheid, occupation, and oppression of Palestinians and 
 Lebanon.\n\nAll are welcome. All are 
 needed.\n\nZoom\nhttp://jvp.org/gazaph\n\n================================================================\n\nCALL 
 TO ACTION\n\n1) Tell Congress: Stop the humanitarian blockade on 
 Gaza\nhttps://actionnetwork.org/letters/tell-congress-stop-the-humanitarian-blockade-on-gaza/\n\n2) 
 Email Congress: Let Aid In\nhttps://bit.ly/letaidin \n\n3) Stop AB715: 
 Defend Our Classrooms\nhttps://win.newmode.net/cairca/opposeab715\n\n4) 
 Tell Microsoft: No tech for 
 genocide..\nhttps://actionnetwork.org/letters/tell-microsoft-to-stop-partnering-with-israels-genocide\n\n5) 
 Tell CNN: Learn your history! Don’t be a shill for zionist 
 lies!\nhttps://www.codepink.org/cnnhistory\n\n6) Contact the White House, 
 your Senators and Representative and urge them to:\n\n✅ [FOR SENATORS] 
 Co-sponsor S.Res.224, a bill introduced by Senator Welch calling for the 
 urgent delivery of humanitarian aid to the people of Gaza\n✅ [FOR 
 REPRESENTATIVE] Cosponsor & vote YES on H.J.Res.68-71 & 83-86 to block 
 weapons shipments to Israel\n✅ [FOR REPRESENTATIVE] Cosponsor H.Res.409 
 being led by Rep. Tlaib to recognize the ongoing Nakba\n✅ Publicly call 
 for the immediate opening of ALL border crossings for unrestricted 
 humanitarian aid entry into Gaza\n✅ Publicly call for an immediate, 
 unconditional, and permanent cease-fire and the complete withdrawal of the 
 Israeli military from Gaza.\n✅ Publicly call for the immediate end to the 
 siege and the occupation of Gaza.\n✅ Support an immediate arms embargo to 
 suspend military funding and weapons to Israel\n \n\nWhite House Comment 
 Line\nOpen Tuesday & Thursday 11am-3pm EST\nComment Line (202) 
 456-1111\nSwitchboard (202) 456-1414\nEmail Contact Page: 
 https://www.whitehouse.gov/contact/\n\nSenator Alex Padilla\n(202) 224-3553 
 DC office\nSenator Padilla's other office locations: (415) 981-9369 San 
 Francisco office; (916) 448-2787 Sacramento office, (559) 497-5109 Fresno 
 office; (310) 231-4494 LA office; (619) 239-3884 San Diego office\nEmail 
 Contact Page: 
 https://www.padilla.senate.gov/contact/contact-form/\n\nSenator Adam 
 Schiff\n(202) 224-3841 DC office\nEmail: Schiff_California [at] 
 schiff.senate.gov\nWebsite: https://www.schiff.senate.gov/\n\nCongressional 
 Switchboard\n(202) 224-3121\nContact your Representative: 
 https://www.house.gov/representatives/find-your-representative\n\n==================================================================\n\nFOR 
 LOCAL ACTIONS (growing list gathered by 
 USCPR):\nhttps://uscpr.org/pro-palestine-protests/\n\n==================================================================\n\nBOYCOTT\n\nBDS 
 Movement: 
 https://bdsmovement.net/Act-Now-Against-These-Companies-Profiting-From-Genocide\n\nBoycat 
 App: https://www.boycat.io/\n\nNo Appetite for Apartheid 
 https://na4a.org/\n\nBDS calls for Boycott of Microsoft Game Pass, 
 Minecraft, Candy Crush, Call of Duty, new Xbox 
 Consoles\nhttps://www.dropsitenews.com/p/bds-calls-for-boycott-of-microsoft\n\n\n==================================================================\n\nDIVESTMENT\n\nLearn 
 about municipal strategies from the BNC - “Your city can join the BDS 
 Movement”\nhttps://bdsmovement.net/Your-City-Can-Join-The-BDS-Movement\n\nAre 
 There Human Rights Violations Hidden in Your 
 Investments?\nhttps://investigate.info/\n\n\n 
 https://www.indybay.org/newsitems/2025/05/18/18876586.php
SUMMARY:Power Half Hour for Gaza
LOCATION:Online
URL:https://www.indybay.org/newsitems/2025/05/18/18876586.php
DTSTART:20250521T190000Z
DTEND:20250521T193000Z
END:VEVENT
END:VCALENDAR
