BEGIN:VCALENDAR
VERSION:2.0
X-WR-CALNAME:www.indybay.org
PRODID:-//indybay/ical// v1.0//EN
BEGIN:VEVENT
UID:Indybay-18875836
SEQUENCE:19048354
CREATED:20250424T213900Z
DESCRIPTION:Sunday, April 27, 2025 from 10:30 AM to 11:30 PM\n\nQ: What’s the 
 difference between a billionaire and a vampire?\n\nA: Vampires only suck 
 your blood at night.\n\nJoin us to march in protest of the corruption and 
 greed of Trump, Musk, Bezos, Zuckerberg and the rest of the billionaire 
 class.\n\nFrom a White House run by the highest bidder, to unfettered 
 access to the vast machinery of the federal government, to privatizing 
 everything that isn’t nailed down (and even then), to extracting every 
 last resource in a relentless pursuit of ever increasing wealth, to trying 
 their best to divide us so we don’t realize who the real problem is, 
 billionaires being billionaires are destroying our democratic institutions, 
 decimating federal agencies, making us less safe, and sucking our resources 
 dry. \n\nThe fact is, we don’t want everything to be run like a business. 
 That’s partly why we’re in this mess to begin with!\n\nThe billionaires 
 are stealing our country from us and we are not going to sit idly by and 
 let them do it!\n\nMARCH ROUTE:\n\nWe’ll meet at Fremont Park in Menlo 
 Park (979 Santa Cruz Avenue), across the street from \nPeet’s Coffee at 
 10:30 am, and march around the Menlo Park downtown area. Bring your signs, 
 drums and good energy so we can let Menlo Park know we know what the score 
 is and we’re not going to take it lying down!\n 
 https://www.indybay.org/newsitems/2025/04/24/18875836.php
SUMMARY:Menlo Park: Hey! Ho! Billionaires Have Got To Go! Protest March
LOCATION:Meet at Fremont Park,\n979 Santa Cruz Avenue, \nMenlo Park, CA
URL:https://www.indybay.org/newsitems/2025/04/24/18875836.php
DTSTART:20250427T173000Z
DTEND:20250427T183000Z
END:VEVENT
END:VCALENDAR
