BEGIN:VCALENDAR
VERSION:2.0
X-WR-CALNAME:www.indybay.org
PRODID:-//indybay/ical// v1.0//EN
BEGIN:VEVENT
UID:Indybay-18875786
SEQUENCE:19048324
CREATED:20250423T031000Z
DESCRIPTION:Join Khalil Sayegh in conversation this Thursday evening.\n\nKhalil is the 
 Executive Director of the Agora Initiative, an organization that advocates 
 for peace in Israel and Palestine and an end to the occupation. He is also 
 a political analyst and activist focused on the Israeli-Palestinian 
 conflict. A native of Gaza, he is currently based in Washington, D.C. where 
 he attended graduate school at American University.\n 
 https://www.indybay.org/newsitems/2025/04/22/18875786.php
SUMMARY:Is there a Way Out after Gaza's devastation: A Palestinian Perspective with Khalil Sayegh
LOCATION:Notable House\n189 Ellsworth St.\nSan Francisco  94110
URL:https://www.indybay.org/newsitems/2025/04/22/18875786.php
DTSTART:20250425T020000Z
DTEND:20250425T033000Z
END:VEVENT
END:VCALENDAR
