BEGIN:VCALENDAR
VERSION:2.0
X-WR-CALNAME:www.indybay.org
PRODID:-//indybay/ical// v1.0//EN
BEGIN:VEVENT
UID:Indybay-18875782
SEQUENCE:19048284
CREATED:20250423T012900Z
DESCRIPTION:In this contemporary reimagining of A Midsummer Night’s Dream, the 
 timeless story unfolds on Cupid’s Isle, a reality TV dating show where 
 four contestants compete for love. Behind the scenes, Hermia defies her 
 parents' wishes to marry Demetrius, risking everything to be with Lysander, 
 while Helena’s unrequited love for Demetrius stirs up even more drama 
 among the contestants. Meanwhile, the production team scrambles to create a 
 surprise wedding performance for Hippolyta and Theseus, the host of 
 Cupid’s Isle and the Executive Producer, leading to a series of 
 unexpected mishaps. Among the island’s residents, Oberon and Titania, 
 embroiled in a bitter custody battle over their child, use magical 
 interference to manipulate the contestants' relationships and further their 
 own rivalry. Blending elements of Shakespeare’s classic comedy with a 
 modern reality TV setting, A Midsummer Night’s Dream blurs the lines 
 between reality and fantasy, as love triangles, power struggles, and 
 absurdity abound at every turn.​\n 
 https://www.indybay.org/newsitems/2025/04/22/18875782.php
SUMMARY:A Midsummer Night's Dream
LOCATION:550 East Remington Drive\nSunnyvale, CA 94087
URL:https://www.indybay.org/newsitems/2025/04/22/18875782.php
DTSTART:20250425T023000Z
DTEND:20250425T050000Z
END:VEVENT
END:VCALENDAR
