BEGIN:VCALENDAR
VERSION:2.0
X-WR-CALNAME:www.indybay.org
PRODID:-//indybay/ical// v1.0//EN
BEGIN:VEVENT
UID:Indybay-18875771
SEQUENCE:19048268
CREATED:20250422T182200Z
DESCRIPTION:Charge up your weekend and experience electric vehicles (EVs). Take EVs for 
 a spin at Baylands Park. Explore a lineup of various electric vehicles, 
 learn from local EV owners and experts, and discover how to save on your 
 next car purchase. Following your test drive, complete the post-survey and 
 receive a food voucher for the on-site complimentary food truck.\n 
 https://www.indybay.org/newsitems/2025/04/22/18875771.php
SUMMARY:EV Ride and Drive
LOCATION:Baylands Park, 999 E Caribbean Dr, Sunnyvale, CA 94089
URL:https://www.indybay.org/newsitems/2025/04/22/18875771.php
DTSTART:20250518T180000Z
DTEND:20250518T220000Z
END:VEVENT
END:VCALENDAR
