BEGIN:VCALENDAR
VERSION:2.0
X-WR-CALNAME:www.indybay.org
PRODID:-//indybay/ical// v1.0//EN
BEGIN:VEVENT
UID:Indybay-18875765
SEQUENCE:19048251
CREATED:20250422T153200Z
DESCRIPTION:On Earth Day it must strike many as absurd that the planet can be 
 privatized in its economic character. The notion that mutuality doesn't 
 include the essential locus of our existence is madness. \n\nJoin a 
 conversation exploring public policy that recognizes the spiritual and 
 economic equality of all people to inhabit the planet free from the 
 economically-framed exclusionary zones called "private property" in 
 location.\n\nMake Earth Day OUR DAY.\n 
 https://www.indybay.org/newsitems/2025/04/22/18875765.php
SUMMARY:Deprivatize Earth's Western Notion of economic value, and send Trump and Harris packing!
LOCATION:on line, a google meet:\nmeet.google.com/phc-anqy-cxa
URL:https://www.indybay.org/newsitems/2025/04/22/18875765.php
DTSTART:20250423T030000Z
DTEND:20250423T040000Z
END:VEVENT
END:VCALENDAR
