BEGIN:VCALENDAR
VERSION:2.0
X-WR-CALNAME:www.indybay.org
PRODID:-//indybay/ical// v1.0//EN
BEGIN:VEVENT
UID:Indybay-18875762
SEQUENCE:19048252
CREATED:20250422T151300Z
DESCRIPTION: All Out for Palestine. Welcome tourists with good spirits and support for 
 Palestinian Rights, BDS and Ceasefire and opposition to Occupation, 
 Apartheid and Genocide.\n 
 https://www.indybay.org/newsitems/2025/04/22/18875762.php
SUMMARY:Free Palestine
LOCATION:Ocean at Water Street, Santa Cruz
URL:https://www.indybay.org/newsitems/2025/04/22/18875762.php
DTSTART:20250426T180000Z
DTEND:20250426T193000Z
END:VEVENT
END:VCALENDAR
