BEGIN:VCALENDAR
VERSION:2.0
X-WR-CALNAME:www.indybay.org
PRODID:-//indybay/ical// v1.0//EN
BEGIN:VEVENT
UID:Indybay-18874720
SEQUENCE:19047185
CREATED:20250321T163300Z
DESCRIPTION:Donald Trump and Elon Musk think this country belongs to them. Oakland - 
 and Indivisible East Bay - are fighting back!\n\nThey're taking everything 
 they can get their hands on—our health care, our data, our jobs, our 
 services—and daring the world to stop them. This is a crisis, and the 
 time to act is now.\n\n🚨 On Saturday, April 5th, we're taking to the 
 streets to fight back with a clear message: Hands off! 🚨\n\nWhere: Oscar 
 Grant Plaza, 409 14th Street, Oakland, CA 94612\n\nWhen: April 5, 2025 at 1 
 PM\n\nThis mass mobilization day is our message to the world that we do not 
 consent to the destruction of our government and our economy for the 
 benefit of Trump and his billionaire allies. Alongside Americans across the 
 country, we are marching, rallying, and protesting to demand a stop the 
 chaos and build an opposition movement against the looting of our 
 country.\n\nA core principle behind all Hands Off! events is a commitment 
 to nonviolent action. We expect all participants to seek to de-escalate any 
 potential confrontation with those who disagree with our values.\n\nThis 
 protest is part of a Washington D.C. & nationwide day of mass action: 
 https://handsoff2025.com/\n 
 https://www.indybay.org/newsitems/2025/03/21/18874720.php
SUMMARY:Hands Off! Oakland Fights Back Against Musk & Trump Fascism
LOCATION:Oscar Grant Plaza\n409 14th Street\nOakland, CA 94612
URL:https://www.indybay.org/newsitems/2025/03/21/18874720.php
DTSTART:20250405T200000Z
DTEND:20250405T220000Z
END:VEVENT
END:VCALENDAR
