BEGIN:VCALENDAR
VERSION:2.0
X-WR-CALNAME:www.indybay.org
PRODID:-//indybay/ical// v1.0//EN
BEGIN:VEVENT
UID:Indybay-18874294
SEQUENCE:19046249
CREATED:20250312T013600Z
DESCRIPTION:As Maersk prepares for its upcoming shareholder meeting, we are ramping up 
 the pressure. Join USCPR, PYM, and the Mask Off Maersk Network for a power 
 hour on Wednesday, March 12th at 12 PM PST. Join us in taking collective 
 action, where we’ll call, tweet, and email Maersk executives to demand an 
 immediate end to the transportation of weapons and military cargo.\n\nWhy 
 Now?\nMaersk plays a direct role in supplying military shipments that fuel 
 war and occupation. With their shareholder meeting approaching, we have a 
 critical window to expose their complicity, amplify public outrage, and 
 push for real accountability. Maersk needs to end their transportation of 
 military cargo to Israel immediately, and shareholders need to know that 
 their investments are tied to war profiteering. \n\nWhat We’ll Do:\n✅ 
 Campaign Updates- Get the latest on the campaign and how we’re building 
 momentum.\n✅ Coordinated tweeting & posting – Flood social media with 
 targeted messages exposing Maersk’s role.\n✅Coordinated Phone 
 Blockade– We will make calls to Maersk offices together, and send emails 
 to executives\nNo experience necessary—just bring your voice, your 
 device, and your commitment to justice!\n 
 https://www.indybay.org/newsitems/2025/03/11/18874294.php
SUMMARY:#MaskOffMaersk Power Hour
LOCATION:Zoom\nhttps://bit.ly/MaskOffMaerskMar12
URL:https://www.indybay.org/newsitems/2025/03/11/18874294.php
DTSTART:20250312T190000Z
DTEND:20250312T200000Z
END:VEVENT
END:VCALENDAR
