BEGIN:VCALENDAR
VERSION:2.0
X-WR-CALNAME:www.indybay.org
PRODID:-//indybay/ical// v1.0//EN
BEGIN:VEVENT
UID:Indybay-18874276
SEQUENCE:19046353
CREATED:20250311T232400Z
DESCRIPTION:Trader Joe’s continues to source from Perdue’s Petaluma Poultry, 
 despite being informed of the criminal animal cruelty occurring at its 
 facilities and the abnormally high rates of pathogens found at its 
 slaughterhouse. We’ve repeatedly asked them to cut ties, but they remain 
 complicit in supporting animal abuse and putting public health at risk. We 
 will be gathering once again to demand that they drop Petaluma Poultry as a 
 supplier.\n\nWHERE: Intersection of E Washington St & S McDowell 
 Blvd\n(38°14’57.2”N 122°37’33.7”W)\n\nWHEN: Saturday March 15th 
 at 2PM.\n\nACCESSIBILITY: This event will include standing. A few chairs 
 will be on hand as needed. If you have questions or need support to attend 
 this event, email sfbay-protest@directactioneverywhere.com.\n\nWHO: 
 Everyone is welcome! However, please do not come if you have or recently 
 had symptoms of or exposure to COVID-19. If you’re nervous, you can come 
 observe or hold a sign quietly.\n—\n\nDirect Action Everywhere (DxE) is a 
 grassroots network of animal rights activists. We ask that all those who 
 attend our events (online and offline) respect our Code of Conduct which 
 can be reviewed at dxe.io/conduct. If you have any questions or concerns, 
 please e-mail sfbay@directactioneverywhere.com.\n 
 https://www.indybay.org/newsitems/2025/03/11/18874276.php
SUMMARY:Petaluma: Trader Joe's, Drop Perdue's Petaluma Poultry
LOCATION:Intersection of E Washington St & S McDowell Blvd\n(38°14’57.2”N 
 122°37’33.7”W)
URL:https://www.indybay.org/newsitems/2025/03/11/18874276.php
DTSTART:20250315T210000Z
DTEND:20250315T223000Z
END:VEVENT
END:VCALENDAR
