BEGIN:VCALENDAR
VERSION:2.0
X-WR-CALNAME:www.indybay.org
PRODID:-//indybay/ical// v1.0//EN
BEGIN:VEVENT
UID:Indybay-18874195
SEQUENCE:19046133
CREATED:20250310T150800Z
DESCRIPTION:We had 50 people there on 3/8, twice as many as the week before. It's a 
 good time and we get a lot of positive feedback from passing cars. It might 
 seem like a small thing but every little bit helps. And it feels good to do 
 something so come on down!\n 
 https://www.indybay.org/newsitems/2025/03/10/18874195.php
SUMMARY:TeslaTakedown Protest at the Tesla Showroom in Seaside
LOCATION:1901 Del Monte Blvd, Seaside, CA 93955
URL:https://www.indybay.org/newsitems/2025/03/10/18874195.php
DTSTART:20250315T190000Z
DTEND:20250315T190000Z
END:VEVENT
END:VCALENDAR
