BEGIN:VCALENDAR
VERSION:2.0
X-WR-CALNAME:www.indybay.org
PRODID:-//indybay/ical// v1.0//EN
BEGIN:VEVENT
UID:Indybay-18873938
SEQUENCE:19045863
CREATED:20250304T234300Z
DESCRIPTION:PROTEST: International Women's Day - Unite & Resist with San Jose 
 50501\n\nJoin 50501 San Jose as we hold our third peaceful protest on 
 Saturday March 8th, 2025 at St. James Park in San Jose from 12:00 - 2:00 
 p.m. Join us to support women’s rights on International Women’s Day and 
 to oppose the unconstitutional actions and executive overreach of the Trump 
 Administration.\n\nPlease bring your own food and water, hat, sunscreen, 
 and signs. We will gather at St. James Park @McKinley Statue, 180 N. First 
 St., San Jose, CA 95113.\n\nIt is a 26 minute walk from San Jose Diridon 
 Caltrain Station. Parking is available on street and at the following 
 nearby parking lots and garages:\n\nFree parking at 232 N. 3rd St.\n\nFirst 
 and St. James Lot at the intersection of First and St. James Streets (first 
 90 minutes free)\n\nMarket & San Pedro Square Garage, 45 N. Market St., 
 three blocks from the park (first 90 minutes free)\n\nThird Street Garage: 
 95 N. Third St., north of Santa Clara St. (first 90 minutes free)\n 
 https://www.indybay.org/newsitems/2025/03/04/18873938.php
SUMMARY:San Jose: International Women's Day - Unite & Resist Protest
LOCATION:St. James Park \n180 N. First St.\nSan Jose, CA 95113
URL:https://www.indybay.org/newsitems/2025/03/04/18873938.php
DTSTART:20250308T200000Z
DTEND:20250308T220000Z
END:VEVENT
END:VCALENDAR
