BEGIN:VCALENDAR
VERSION:2.0
X-WR-CALNAME:www.indybay.org
PRODID:-//indybay/ical// v1.0//EN
BEGIN:VEVENT
UID:Indybay-18873763
SEQUENCE:19045515
CREATED:20250301T003900Z
DESCRIPTION:Show your love for the planet by attending Sunnyvale's Earth Day Festival! 
 The event will feature family-friendly, sustainability-focused activities 
 and information from local organizations.  \n\nAttend the festival to 
 enjoy: \n-Sustainable arts and crafts \n-Guided urban canopy tours led by 
 tree experts  \n-Bike valet parking to stroll through the event hands-free 
 \n-Resources to make the swap from gas to electric in your home  
 \n-Zero-emissions cars on display \n-And more! \n\nJoin us in empowering 
 our community and building a sustainable Sunnyvale. We hope to see you 
 there.  \n https://www.indybay.org/newsitems/2025/02/28/18873763.php
SUMMARY:Sunnyvale’s Earth Day Festival: Empowering Our Community
LOCATION:Sunnyvale Civic Center, 456 W. Olive Ave., Sunnyvale, CA 94086 
URL:https://www.indybay.org/newsitems/2025/02/28/18873763.php
DTSTART:20250405T180000Z
DTEND:20250405T220000Z
END:VEVENT
END:VCALENDAR
