BEGIN:VCALENDAR
VERSION:2.0
X-WR-CALNAME:www.indybay.org
PRODID:-//indybay/ical// v1.0//EN
BEGIN:VEVENT
UID:Indybay-18873732
SEQUENCE:19045481
CREATED:20250226T150800Z
DESCRIPTION:We’re thrilled to announce our second Tatreez and Tea on Sunday, March 
 9th, from 12:30 - 3:30 pm PST at the Arab American Cultural Center in San 
 Jose. Please join us for a Palestinian cultural event to raise funds and 
 support HEAL Palestine’s ongoing work in Gaza.\n\nThis workshop is ideal 
 for those with little to no tatreez experience. We invite you to stitch so 
 our hands can work and hearts can rest. A brief history of Palestinian 
 tatreez will be covered, followed by a demonstration of the mechanics of 
 cross-stitching and hands-on practice. Attendees will then be able to take 
 home their beautiful pieces.\n\nTickets are $30 per person. Embroidery 
 supplies, Middle Eastern desserts, and hot tea are included in the ticket 
 price. Space is limited, so we strongly encourage you to register. \n 
 https://www.indybay.org/newsitems/2025/02/26/18873732.php
SUMMARY:Tatreez and Tea
LOCATION:3962 Twilight Dr, San Jose, CA 95124\n
URL:https://www.indybay.org/newsitems/2025/02/26/18873732.php
DTSTART:20250309T193000Z
DTEND:20250309T223000Z
END:VEVENT
END:VCALENDAR
