BEGIN:VCALENDAR
VERSION:2.0
X-WR-CALNAME:www.indybay.org
PRODID:-//indybay/ical// v1.0//EN
BEGIN:VEVENT
UID:Indybay-18873411
SEQUENCE:19045049
CREATED:20250218T174800Z
DESCRIPTION:Join us for this important webinar with Dr. Mustafa Barghouti, Palestinian 
 political leader and human rights activist.\n\nRegister at: 
 https://bit.ly/4k2DIL8\n 
 https://www.indybay.org/newsitems/2025/02/18/18873411.php
SUMMARY:Webinar: Rising Violence and the Existential Threat to Palestinians
LOCATION:Online
URL:https://www.indybay.org/newsitems/2025/02/18/18873411.php
DTSTART:20250224T160000Z
DTEND:20250224T173000Z
END:VEVENT
END:VCALENDAR
