BEGIN:VCALENDAR
VERSION:2.0
X-WR-CALNAME:www.indybay.org
PRODID:-//indybay/ical// v1.0//EN
BEGIN:VEVENT
UID:Indybay-18872888
SEQUENCE:19044246
CREATED:20250204T004100Z
DESCRIPTION:Join American Friends Service Committee (AFSC) staff every Friday to hear 
 updates on what's happening in Gaza. Then, take action with us as we 
 contact Congress and call for a permanent cease-fire, arms embargo on 
 Israel, and humanitarian access for Gaza. Our elected officials need to 
 keep hearing from 
 us!\n\nZoom\nhttps://afsc.org/events/action-hour-cease-fire-now\n\n=================================================================\n\nCALL 
 TO ACTION\n\n1) Write to Congress to Block $8 Billion Arms Sale to Israel: 
 https://actionnetwork.org/letters/armsembargonow?source=mc_2025_01_16_armsdealaction\n\n2) 
 Actions to free Dr. Hussam Abu Safiya:\n\na) Email Congress: 
 https://doctorsagainstgenocide.org/free-gaza-doctors\n\nb) Email major 
 media outlets: https://uscpr.org/gazamediaemail\n\nc) Linktree for 
 additional petitions & email actions: 
 https://linktr.ee/FreeDrAbuSafiya\n\n==================================================================\n\nBOYCOTT:\n\nMcDonalds, 
 Domino's Pizza, Papa John's Pizza, Pizza Hut, Burger King, Starbucks\nHP, 
 Google, Intel, Amazon, Expedia, Airbnb, Booking.com, RE/MAX, Chevron, 
 Volvo\nSabra, SodaStream, ZARA, AHAVA, Marvel, Disney, Netflix\n\nBoycat 
 App: https://www.boycat.io/\n\nBDS Movement: 
 https://bdsmovement.net/Act-Now-Against-These-Companies-Profiting-From-Genocide\n 
 https://www.indybay.org/newsitems/2025/02/03/18872888.php
SUMMARY:Virtual Action Hour
LOCATION:Online
URL:https://www.indybay.org/newsitems/2025/02/03/18872888.php
DTSTART:20250207T170000Z
DTEND:20250207T180000Z
END:VEVENT
END:VCALENDAR
