BEGIN:VCALENDAR
VERSION:2.0
X-WR-CALNAME:www.indybay.org
PRODID:-//indybay/ical// v1.0//EN
BEGIN:VEVENT
UID:Indybay-18872507
SEQUENCE:19043749
CREATED:20250121T084700Z
DESCRIPTION:In support of the nationwide BDS Movement weekend of action to 
 #BoycottChevron, we are gathering at Chevron locations to bring attention 
 to their complicity in Palestinian energy apartheid, and to share 
 information with our community. Chevron is a major economic partner of the 
 Israeli government, and fuels Israel's apartheid and war crimes.\n\nWe will 
 drive together in a car caravan (est. 1+ hour), stopping briefly at 
 corporate owned Chevron stations, and concluding with a brief rally at 
 Cupertino Memorial Park.\n\nRSVP: 
 https://bit.ly/boycottchevron-caravan\n\nFollow us at 
 https://www.instagram.com/vigil4gaza\n 
 https://www.indybay.org/newsitems/2025/01/21/18872507.php
SUMMARY:#BoycottChevron Car Caravan
LOCATION:1400 N. Shoreline Blvd, Mountain View, CA (parking lot to the right of 
 former Golds Gym)
URL:https://www.indybay.org/newsitems/2025/01/21/18872507.php
DTSTART:20250202T170000Z
DTEND:20250202T200000Z
END:VEVENT
END:VCALENDAR
