BEGIN:VCALENDAR
VERSION:2.0
X-WR-CALNAME:www.indybay.org
PRODID:-//indybay/ical// v1.0//EN
BEGIN:VEVENT
UID:Indybay-18872340
SEQUENCE:19043520
CREATED:20250117T210600Z
DESCRIPTION:In this Meta-Asian-Queer-Stoner-Coming-of-Age-Bromantic-Dramedy, Ryan and 
 Daniel, two childhood best friends and aspiring actors, spend one final 
 weekend together before Ryan moves to Canada with his fiancé. Wanting to 
 create one lasting memory, they decide to make a movie -- about two guys 
 making a movie -- about two guys making a movie. Along the way, bottled-up 
 secrets arise as they unpack their decades-long friendship and put their 
 extremely unique dynamic to the test.\n 
 https://www.indybay.org/newsitems/2025/01/17/18872340.php
SUMMARY:Extremely Unique Dynamic
LOCATION:4 Star Theater \n2200 Clement St, San Francisco, CA 94121
URL:https://www.indybay.org/newsitems/2025/01/17/18872340.php
DTSTART:20250130T033000Z
DTEND:20250130T043000Z
END:VEVENT
END:VCALENDAR
