BEGIN:VCALENDAR
VERSION:2.0
X-WR-CALNAME:www.indybay.org
PRODID:-//indybay/ical// v1.0//EN
BEGIN:VEVENT
UID:Indybay-18872193
SEQUENCE:19043364
CREATED:20250114T041600Z
DESCRIPTION:Please register on Zoom with the following 
 link:\nhttps://zoom.us/webinar/register/WN_8KXoCLCfSGCYFJrkz6ScTQ#/registration\n\nFifteen 
 months of Israel’s accelerated genocide against the Palestinian people, 
 unrestrained by effective legal prophylaxes or accountability, has exposed 
 to the world a terrible crisis in international law. The International 
 Court of Justice has ordered preliminary measures, declaring that South 
 Africa’s case against Israel for genocide is plausible, while the 
 International Criminal Court Office has issued arrest warrants for Israeli 
 Prime Minister Benjamin Netanyahu and Defense Minister Yoav Gallant. The 
 International Court of Justice, in a July 2024 Advisory Opinion, determined 
 that Israel’s occupation of Palestinian Territory, including Gaza, West 
 Bank and East Jerusalem, continues, is illegal and must stop. Against this 
 backdrop of legal decisions and incontrovertible evidence of genocide, the 
 US, Germany and other states have continued to provide Israel with billions 
 of dollars in weaponry, and the US invited Netanyahu and other Israeli 
 politicians to be honoured at the US Congress. The illegality of Israel’s 
 war against Palestinians is at the same time obscured by claims advanced by 
 the US and other states that the Israeli war, determined as ‘plausible 
 genocide,’ is just part of a so-called “rules-based international 
 order.” Domestic and international institutions and legal systems have 
 appeared largely co-opted by the US. Join the Monique and Roland Weyl 
 People’s Academy of International Law for an informative, analytical and 
 practice-oriented seminar and discussion on what meaningful utility remains 
 for international law and legal institutions in a time of genocide and 
 impunity.\n\nSpeakers:\nRaji Sourani, Director of Palestinian Centre for 
 Human Rights\nFrancesca Albanese, UN Special Rapporteur on the Occupied 
 Palestinian Territories\nMaria LaHood, Deputy Legal Director at Center for 
 Constitutional Rights\nShahd Hammouri, Lecturer in Law at Kent Law School 
 in the UK\nModerated by Dean Marjorie Cohn\n 
 https://www.indybay.org/newsitems/2025/01/13/18872193.php
SUMMARY:The Crisis of Public International Law: The Case of Palestine and Impunity for Genocide
LOCATION:Online
URL:https://www.indybay.org/newsitems/2025/01/13/18872193.php
DTSTART:20250116T170000Z
DTEND:20250116T193000Z
END:VEVENT
END:VCALENDAR
